BEGIN:VCALENDAR
VERSION:2.0
PRODID:-//Lydia Place - ECPv6.15.20//NONSGML v1.0//EN
CALSCALE:GREGORIAN
METHOD:PUBLISH
X-ORIGINAL-URL:https://lydiaplace.org
X-WR-CALDESC:Events for Lydia Place
REFRESH-INTERVAL;VALUE=DURATION:PT1H
X-Robots-Tag:noindex
X-PUBLISHED-TTL:PT1H
BEGIN:VTIMEZONE
TZID:America/Los_Angeles
BEGIN:DAYLIGHT
TZOFFSETFROM:-0800
TZOFFSETTO:-0700
TZNAME:PDT
DTSTART:20230312T100000
END:DAYLIGHT
BEGIN:STANDARD
TZOFFSETFROM:-0700
TZOFFSETTO:-0800
TZNAME:PST
DTSTART:20231105T090000
END:STANDARD
BEGIN:DAYLIGHT
TZOFFSETFROM:-0800
TZOFFSETTO:-0700
TZNAME:PDT
DTSTART:20240310T100000
END:DAYLIGHT
BEGIN:STANDARD
TZOFFSETFROM:-0700
TZOFFSETTO:-0800
TZNAME:PST
DTSTART:20241103T090000
END:STANDARD
BEGIN:DAYLIGHT
TZOFFSETFROM:-0800
TZOFFSETTO:-0700
TZNAME:PDT
DTSTART:20250309T100000
END:DAYLIGHT
BEGIN:STANDARD
TZOFFSETFROM:-0700
TZOFFSETTO:-0800
TZNAME:PST
DTSTART:20251102T090000
END:STANDARD
END:VTIMEZONE
BEGIN:VEVENT
DTSTART;TZID=America/Los_Angeles:20240424T113000
DTEND;TZID=America/Los_Angeles:20240424T203000
DTSTAMP:20260424T050609
CREATED:20240325T234624Z
LAST-MODIFIED:20240403T170210Z
UID:3578-1713958200-1713990600@lydiaplace.org
SUMMARY:Lombardi's Italian Dine Out Day
DESCRIPTION:On April 24th from 11:30 AM – 8:30 PM\, Lombardi’s Italian will be donating 15% of their sales to Lydia Place.\nTo go order sales will be included\, but not sales from third party delivery services.
URL:https://lydiaplace.org/event/lombardis-italian-dine-out-night/
LOCATION:Lombardi’s Italian\, 21 Bellwether Way Ste 112\,\, Bellingham\, WA\, 98225-8865\, United States
ATTACH;FMTTYPE=image/png:https://lydiaplace.org/wp-content/uploads/2024/03/15-of-all-sales-for-the-day-will-be-donated.-To-go-order-sales-will-be-included-but-not-sales-from-third-party-deliver-service.png
END:VEVENT
END:VCALENDAR