BEGIN:VCALENDAR
VERSION:2.0
PRODID:-//Lydia Place - ECPv6.15.20//NONSGML v1.0//EN
CALSCALE:GREGORIAN
METHOD:PUBLISH
X-ORIGINAL-URL:https://lydiaplace.org
X-WR-CALDESC:Events for Lydia Place
REFRESH-INTERVAL;VALUE=DURATION:PT1H
X-Robots-Tag:noindex
X-PUBLISHED-TTL:PT1H
BEGIN:VTIMEZONE
TZID:America/Los_Angeles
BEGIN:DAYLIGHT
TZOFFSETFROM:-0800
TZOFFSETTO:-0700
TZNAME:PDT
DTSTART:20230312T100000
END:DAYLIGHT
BEGIN:STANDARD
TZOFFSETFROM:-0700
TZOFFSETTO:-0800
TZNAME:PST
DTSTART:20231105T090000
END:STANDARD
BEGIN:DAYLIGHT
TZOFFSETFROM:-0800
TZOFFSETTO:-0700
TZNAME:PDT
DTSTART:20240310T100000
END:DAYLIGHT
BEGIN:STANDARD
TZOFFSETFROM:-0700
TZOFFSETTO:-0800
TZNAME:PST
DTSTART:20241103T090000
END:STANDARD
BEGIN:DAYLIGHT
TZOFFSETFROM:-0800
TZOFFSETTO:-0700
TZNAME:PDT
DTSTART:20250309T100000
END:DAYLIGHT
BEGIN:STANDARD
TZOFFSETFROM:-0700
TZOFFSETTO:-0800
TZNAME:PST
DTSTART:20251102T090000
END:STANDARD
END:VTIMEZONE
BEGIN:VEVENT
DTSTART;TZID=America/Los_Angeles:20240730T180000
DTEND;TZID=America/Los_Angeles:20240730T200000
DTSTAMP:20260423T213855
CREATED:20240620T194753Z
LAST-MODIFIED:20240620T194812Z
UID:5616-1722362400-1722369600@lydiaplace.org
SUMMARY:Tuesday Tunes at Barkley Village
DESCRIPTION:Join us for an evening of FREE LIVE MUSIC benefitting Lydia Place. \nDon’t forget to bring your picnic blanket and gather the family to enjoy the fantastic food trucks along with the entertainment. \nA HUGE thank you to our concert sponsor\, Salish Wealth Management! \nCLICK HERE TO LEARN MORE
URL:https://lydiaplace.org/event/tuesday-tunes-at-barkley-village/
ATTACH;FMTTYPE=image/jpeg:https://lydiaplace.org/wp-content/uploads/2024/06/Hero_Website-1.jpg
END:VEVENT
END:VCALENDAR