BEGIN:VCALENDAR
VERSION:2.0
PRODID:-//Lydia Place - ECPv6.15.20//NONSGML v1.0//EN
CALSCALE:GREGORIAN
METHOD:PUBLISH
X-WR-CALNAME:Lydia Place
X-ORIGINAL-URL:https://lydiaplace.org
X-WR-CALDESC:Events for Lydia Place
REFRESH-INTERVAL;VALUE=DURATION:PT1H
X-Robots-Tag:noindex
X-PUBLISHED-TTL:PT1H
BEGIN:VTIMEZONE
TZID:America/Los_Angeles
BEGIN:DAYLIGHT
TZOFFSETFROM:-0800
TZOFFSETTO:-0700
TZNAME:PDT
DTSTART:20240310T100000
END:DAYLIGHT
BEGIN:STANDARD
TZOFFSETFROM:-0700
TZOFFSETTO:-0800
TZNAME:PST
DTSTART:20241103T090000
END:STANDARD
BEGIN:DAYLIGHT
TZOFFSETFROM:-0800
TZOFFSETTO:-0700
TZNAME:PDT
DTSTART:20250309T100000
END:DAYLIGHT
BEGIN:STANDARD
TZOFFSETFROM:-0700
TZOFFSETTO:-0800
TZNAME:PST
DTSTART:20251102T090000
END:STANDARD
BEGIN:DAYLIGHT
TZOFFSETFROM:-0800
TZOFFSETTO:-0700
TZNAME:PDT
DTSTART:20260308T100000
END:DAYLIGHT
BEGIN:STANDARD
TZOFFSETFROM:-0700
TZOFFSETTO:-0800
TZNAME:PST
DTSTART:20261101T090000
END:STANDARD
BEGIN:DAYLIGHT
TZOFFSETFROM:-0800
TZOFFSETTO:-0700
TZNAME:PDT
DTSTART:20270314T100000
END:DAYLIGHT
BEGIN:STANDARD
TZOFFSETFROM:-0700
TZOFFSETTO:-0800
TZNAME:PST
DTSTART:20271107T090000
END:STANDARD
END:VTIMEZONE
BEGIN:VEVENT
DTSTART;TZID=America/Los_Angeles:20251012T090000
DTEND;TZID=America/Los_Angeles:20251012T160000
DTSTAMP:20260422T201532
CREATED:20240902T202129Z
LAST-MODIFIED:20250924T222939Z
UID:6203-1760259600-1760284800@lydiaplace.org
SUMMARY:Trails to Taps
DESCRIPTION:Trails to Taps Relay is an untimed\, fun team relay that explores over 30 miles of Bellingham parks\, trails\, and roads. Teams of eight runners run 3-6 miles each and a local brewery/cidery serves as the transition point of each leg. Costumes are encouraged and rewarded at the costume contests at the After Party at Kulshan Trackside from 1:00 – 4:00 pm. Lydia Place is the main beneficiary of this event. Sign up your team today and we’ll see you Sunday\, October 12th! \nSIGN UP HERE: https://trailstotapsrelay.com/
URL:https://lydiaplace.org/event/trails-to-taps/
ATTACH;FMTTYPE=image/png:https://lydiaplace.org/wp-content/uploads/2024/09/Trails-to-Taps-700-x-500-Ad.png
END:VEVENT
BEGIN:VEVENT
DTSTART;TZID=America/Los_Angeles:20251106T193000
DTEND;TZID=America/Los_Angeles:20251106T210000
DTSTAMP:20260422T201532
CREATED:20250714T221417Z
LAST-MODIFIED:20251008T214821Z
UID:8398-1762457400-1762462800@lydiaplace.org
SUMMARY:Humor for Housing
DESCRIPTION:We’re bringing back Humor for Housing – Improv for a good cause! \nTickets are $56 and available for purchase on The Upfront Theatre’s website. \nDoors open at 7:00PM. Admission includes one concessions ticket.
URL:https://lydiaplace.org/event/humor-for-housing/
LOCATION:Upfront Theatre\, 203 Prospect Street\, Bellingham\, WA\, 98225\, United States
ATTACH;FMTTYPE=image/png:https://lydiaplace.org/wp-content/uploads/2025/07/HH-square-Web.png
END:VEVENT
BEGIN:VEVENT
DTSTART;TZID=America/Los_Angeles:20260207T170000
DTEND;TZID=America/Los_Angeles:20260207T210000
DTSTAMP:20260422T201532
CREATED:20250617T231352Z
LAST-MODIFIED:20260108T231755Z
UID:8339-1770483600-1770498000@lydiaplace.org
SUMMARY:Hearts for Housing 2026
DESCRIPTION:Mark your calendars for Whatcom County’s legendary Valentines gala\, Hearts for Housing! \nAs Lydia Place’s largest fundraising event\, Hearts for Housing raises crucial dollars for programs and services for individuals and families experiencing homelessness in our community. \nVisit heartsforhousing.com to purchase your tickets today!
URL:https://lydiaplace.org/event/save-the-date-hearts-for-housing-2026/
ATTACH;FMTTYPE=image/jpeg:https://lydiaplace.org/wp-content/uploads/2025/06/87A8549-scaled-e1750203125639.jpg
END:VEVENT
BEGIN:VEVENT
DTSTART;TZID=America/Los_Angeles:20260423T170000
DTEND;TZID=America/Los_Angeles:20260423T200000
DTSTAMP:20260422T201532
CREATED:20260211T230200Z
LAST-MODIFIED:20260417T221535Z
UID:9583-1776963600-1776974400@lydiaplace.org
SUMMARY:Wine Walk 2026
DESCRIPTION:Barkley Village and Lydia Place are teaming up for the sixth annual Barkley Village Wine Walk benefiting Lydia Place. On Thursday\, April 23rd\, from 5:00-8:00 pm\, participants can stroll through Barkley Village shops and restaurants as they taste regional wines in pop-up tasting rooms. \nAll attendees will receive: \n\na keepsake wine glass\n8 wine tasting tickets\naccess to our exclusive Wine Store\nand a goodie bag!\n\nEvery dollar goes to support Lydia Place programs to help end family homelessness. \nThe fun will begin at 5:00 pm with check in. From there participants make their way through the village to taste delicious wine. \nWine Walkers can end the night by taking home their favorite wines to enjoy throughout the spring from our retail wine store. \n\n\n\n\n\nA Huge Thank You To…\nOur co-host\, Barkley Village\, our 2026 Title Sponsors\, Trucordia and Barkley Village Family Dentistry\, our Wine Bag sponsor\, Washington Trust Bank\, our Snack Shack sponsor\, Haggen Food & Pharmacy\, and all the businesses participating as Wine Stops. This event would not be possible without their support! \n\n\n\n\n\nClick here to purchase a large block of tickets\, otherwise select ticket quantity below. \n 
URL:https://lydiaplace.org/event/wine-walk-2026/
LOCATION:Barkley Village
ATTACH;FMTTYPE=image/png:https://lydiaplace.org/wp-content/uploads/2025/03/Untitled-design-46.png
END:VEVENT
BEGIN:VEVENT
DTSTART;VALUE=DATE:20260604
DTEND;VALUE=DATE:20260605
DTSTAMP:20260422T201532
CREATED:20260211T225842Z
LAST-MODIFIED:20260422T235317Z
UID:9580-1780531200-1780617599@lydiaplace.org
SUMMARY:Handbags for Housing 2026
DESCRIPTION:Save the date for FASHION\, FUN\, and PHILANTHROPY at Handbags for Housing 2026! Tickets are on sale now at handbagsforhousing.com!
URL:https://lydiaplace.org/event/handbags-for-housing-2026/
LOCATION:Fishermen’s Pavilion\, 2599 S Harbor Loop Dr.\, Bellingham\, 98225\, United States
ATTACH;FMTTYPE=image/jpeg:https://lydiaplace.org/wp-content/uploads/2026/02/Greater-Giving-Banner-1170x600-web-2.jpg
END:VEVENT
END:VCALENDAR