BEGIN:VCALENDAR
VERSION:2.0
PRODID:-//Lydia Place - ECPv6.15.20//NONSGML v1.0//EN
CALSCALE:GREGORIAN
METHOD:PUBLISH
X-WR-CALNAME:Lydia Place
X-ORIGINAL-URL:https://lydiaplace.org
X-WR-CALDESC:Events for Lydia Place
REFRESH-INTERVAL;VALUE=DURATION:PT1H
X-Robots-Tag:noindex
X-PUBLISHED-TTL:PT1H
BEGIN:VTIMEZONE
TZID:America/Los_Angeles
BEGIN:DAYLIGHT
TZOFFSETFROM:-0800
TZOFFSETTO:-0700
TZNAME:PDT
DTSTART:20230312T100000
END:DAYLIGHT
BEGIN:STANDARD
TZOFFSETFROM:-0700
TZOFFSETTO:-0800
TZNAME:PST
DTSTART:20231105T090000
END:STANDARD
BEGIN:DAYLIGHT
TZOFFSETFROM:-0800
TZOFFSETTO:-0700
TZNAME:PDT
DTSTART:20240310T100000
END:DAYLIGHT
BEGIN:STANDARD
TZOFFSETFROM:-0700
TZOFFSETTO:-0800
TZNAME:PST
DTSTART:20241103T090000
END:STANDARD
BEGIN:DAYLIGHT
TZOFFSETFROM:-0800
TZOFFSETTO:-0700
TZNAME:PDT
DTSTART:20250309T100000
END:DAYLIGHT
BEGIN:STANDARD
TZOFFSETFROM:-0700
TZOFFSETTO:-0800
TZNAME:PST
DTSTART:20251102T090000
END:STANDARD
END:VTIMEZONE
BEGIN:VEVENT
DTSTART;VALUE=DATE:20240314
DTEND;VALUE=DATE:20240315
DTSTAMP:20260423T042128
CREATED:20240215T225312Z
LAST-MODIFIED:20240308T215345Z
UID:3406-1710374400-1710460799@lydiaplace.org
SUMMARY:Woods Coffee Day of Giving
DESCRIPTION:Please join us Thursday\, March 14th!\nSupport Lydia Place through Woods Coffee’s Day of Giving! \nOne day only\, when you donate $10 or more at ANY Woods Coffee location\, you’ll receive a complimentary drink of your choice (any drink\, any size!). In-store and drive-thru orders included. \nAll donations will be matched by Woods Coffee (up to $10\,000!) and will directly support Lydia Place programs. So set a reminder\, tell your friends\, and treat yourself while supporting local families! \nFind your nearest Woods Coffee location
URL:https://lydiaplace.org/event/woods-coffee-day-of-giving/
LOCATION:WA
ATTACH;FMTTYPE=image/png:https://lydiaplace.org/wp-content/uploads/2024/02/1-e1709754327555.png
END:VEVENT
END:VCALENDAR